BEGIN:VCALENDAR
PRODID:NingEventWidget-v1
VERSION:2.0
METHOD:PUBLISH
BEGIN:VTIMEZONE
TZID:Europe/Berlin
X-LIC-LOCATION:Europe/Berlin
BEGIN:DAYLIGHT
TZOFFSETFROM:+0100
TZOFFSETTO:+0200
TZNAME:CEST
DTSTART:19700329T020000
RRULE:FREQ=YEARLY;BYMONTH=3;BYDAY=-1SU
END:DAYLIGHT
BEGIN:STANDARD
TZOFFSETFROM:+0200
TZOFFSETTO:+0100
TZNAME:CET
DTSTART:19701025T030000
RRULE:FREQ=YEARLY;BYMONTH=10;BYDAY=-1SU
END:STANDARD
END:VTIMEZONE
BEGIN:VEVENT
UID:4160093:Event:173459
DTSTAMP:20260425T050526Z
SUMMARY:ScheuerpfÃ¤hle fÃ¼rs Volmetal (Gastausstellung)
DESCRIPTION:ScheuerpfÃ¤hle fÃ¼rs Volmetal\r\n \r\nJeder KÃ¼nstler kann
  bis zu drei EntwÃ¼rfe einreichen, die von einer Jury ausgesucht werde
 n. Feststehendes Honorar 1500,00 â‚¬. Der Baumstamm wird von uns berei
 tgestellt. Zeitraum, mÃ¶glichst schnell. Bis Ende Februar die EntwÃ¼rf
 e einreichen. Aufstellen der Skulpturen in diesem Jahr. Termine werden
  mit den KÃ¼nstlern abgestimmt.\r\n\r\nHier gibt es mehr Infos:\r\n201
 9_03_Scheuerpf%C3%A4hle_Pr%C3%A4sentation3oA.pdf\r\n\r\nKMV_2019_03_Sc
 heuerpf%C3%A4hle_VAKT.pdf\r\n\r\nhttps://www.come-on.de/volmetal/halve
 r/ministerin-scharrenbach-ueberreicht-foerderbescheid-vakt-aktion-1336
 2756.html\r\n\r\n\r\n\r\n\r\nBitte tragt Euch zunÃ¤chst hier bei cross
 art ein. Bewerbung und alle weiteren Fragen bitte an: Karin Schloten-W
 alther  \r\nvakt-kunst.halver@web.de\r\n02353-4829\r\n \n\nWeitere Inf
 ormationen erhalten Sie unter https://crossart.ning.com/events/scheuer
 pfahlefurs-volmetal-gastausstellung
DTSTART;TZID=Europe/Berlin:20200113T190000
DTEND;TZID=Europe/Berlin:20201231T170000
CATEGORIES:kunstwanderweg
LOCATION:Wanderweg X20
WEBSITE:
URL:
CONTACT:
ORGANIZER:Fakt e.V
ATTACH;FMTTYPE="image/jpeg":https://storage.ning.com/topology/rest/1.0
 /file/get/3816995345?profile=original
ATTENDEE;ROLE=REQ-PARTICIPANT;PARTSTAT=ACCEPTED;RSVP=TRUE;CN="Manfred 
 FÃ¼rth":https://crossart.ning.com/profile/ManfredFuerth
ATTENDEE;ROLE=REQ-PARTICIPANT;PARTSTAT=ACCEPTED;RSVP=TRUE;CN="Rolf Har
 tung":https://crossart.ning.com/profile/RolfHartung
ATTENDEE;ROLE=REQ-PARTICIPANT;PARTSTAT=ACCEPTED;RSVP=TRUE;CN="Carola M
 ehlhorn":https://crossart.ning.com/profile/CarolaFirgau
ATTENDEE;ROLE=REQ-PARTICIPANT;PARTSTAT=ACCEPTED;RSVP=TRUE;CN="Bina Pla
 czek-Theisen":https://crossart.ning.com/profile/BinaPlaczekTheisen
ATTENDEE;ROLE=REQ-PARTICIPANT;PARTSTAT=ACCEPTED;RSVP=TRUE;CN="Peter MÃ
 ¼ck":https://crossart.ning.com/profile/PeterMueck
ATTENDEE;ROLE=REQ-PARTICIPANT;PARTSTAT=TENTATIVE;RSVP=TRUE;CN="Georg H
 . Schmidt":https://crossart.ning.com/profile/GeorgHSchmidt10
END:VEVENT
END:VCALENDAR
