BEGIN:VCALENDAR
PRODID:NingEventWidget-v1
VERSION:2.0
METHOD:PUBLISH
BEGIN:VTIMEZONE
TZID:Europe/Berlin
X-LIC-LOCATION:Europe/Berlin
BEGIN:DAYLIGHT
TZOFFSETFROM:+0100
TZOFFSETTO:+0200
TZNAME:CEST
DTSTART:19700329T020000
RRULE:FREQ=YEARLY;BYMONTH=3;BYDAY=-1SU
END:DAYLIGHT
BEGIN:STANDARD
TZOFFSETFROM:+0200
TZOFFSETTO:+0100
TZNAME:CET
DTSTART:19701025T030000
RRULE:FREQ=YEARLY;BYMONTH=10;BYDAY=-1SU
END:STANDARD
END:VTIMEZONE
BEGIN:VEVENT
UID:4160093:Event:257189
DTSTAMP:20260420T111957Z
SUMMARY:ART & BURGERS FESTIVAL
DESCRIPTION:\r\nART & BURGERS FESTIVAL\r\n\r\nIm Pixelcafe Cologne tri
 fft industrieller Charme auf geballte KreativitÃ¤t. Die Betreiberin un
 d KÃ¼nstlerin Luiza Brack hat sich auf dem GelÃ¤nde des Leskan Parks e
 in Kleinod erschaffen. In einer historischen Fabrikhalle, angrenzend a
 n eine Auto- und Motorradwerkstatt, befindet sich ihr Atelier. Dort ha
 t sie sich einen Kreativ - Arbeitsraum samt Coworkingspace und Pixelca
 fe eingerichtet. Mit einem offenen Konzept, welches auf interessierte 
 Besucher ausgerichtet ist, bringt sie die Menschen gleichzeitig mit de
 r industriellen Architektur und der Kunst in einen Dialog. Das gelingt
  ihr zum einen durch ein regelmÃ¤ÃŸig fÃ¼r Besucher geÃ¶ffnetes Atelie
 r, wie auch durch Events, wie beispielsweise Ausstellungen oder Konzer
 te inmitten des rauen Charmes der alten Halle.\r\nAm Pfingstsamstag, d
 en 18.5.23 findet das ART & BURGERS FESTIVAL statt. Am Aktionstag wird
  es Kunstausstellungen, Musikdarbietungen, Mini-Workshops und eine Bur
 germanufaktur geben.  Dazu wird die Halle, das Eingangsfoyer und der B
 unker im Kellergeschoss genutzt. Im Bunker kÃ¶nnen Bildhauer und Objek
 tkÃ¼nstler agieren. Keine Papierarbeiten o.Ã¤., da hohe Luftfeuchtigke
 it. AuÃŸerdem kÃ¶nnen Lichtkunst und Installationen gezeigt werden.  I
 m Foyer und der Halle finden GemÃ¤lde, Zeichnungen, Fotos, Mixed-Media
 -Arbeiten etc. ihren Platz. Die genaue Menge ist schwer festzulegen, 5
 -6 Mittelfomate sind aber bestimmt mÃ¶glich. Dazu wird es vorher einen
  Ortstermin geben.  Kosten: Da die Bewirtung der Vernissage von der Bu
 rgermanufaktur Ã¼bernommen wird, einschlieÃŸlich des Verkaufs GetrÃ¤nk
 en, fallen wahrscheinlich keine Kosten an, es sei denn, wir finden kei
 nen Sponsor fÃ¼r die Flyer. (Diese werden dann durch die Anzahl der KÃ
 ¼nstler geteilt.)  -Keine Verkaufsprovision-  Es ist Platz fÃ¼r 2 KÃ¼n
 stler mit â€žFlachwareâ€œ und einen KÃ¼nstler fÃ¼r den Bunker. AuÃŸerd
 em wird die Organisatorin in ihrem Atelier mit ausstellen.  Die Ausste
 llung wird nach dem Aktionstag noch weitergehen. Die genaue Dauer wird
  beim Ortstermin besprochen. Circa 1 Woche\r\n\r\nMehr Info Ã¼ber die 
 Location hier:\r\nhttps://crossart.ning.com/page/pixel-cafecoogne\r\n\
 r\nBitte im Kommentarfeld unten bewerben, vorher auf teilnehmen klicke
 n. Dazu mÃ¼sst Ihr eingeloggt sein.Bitte keine Bilder hier einfÃ¼gen, 
 sondern evtl. auf Bildnamen verweisen (oder einen Link einstellen), di
 e Ihr auf der crossart-Seite habt,oder auf Eurer Webseite.\r\nBitte in
  der Bildbeschreibung diese Details anzugeben:  1.Name des Bildes  2.G
 rÃ¶ÃŸe des Bildes  3.Technik\r\n\r\nes stellen aus: Home is where the 
 ART is, Natja Jander, Manfred FÃ¼rth, Lara MouvÃ©e, Lene Enghusen, Rol
 f Hartung, Luiza Brack, Peter MÃ¼ck\r\n \r\n\r\n\r\n\r\n\n\nWeitere In
 formationen erhalten Sie unter https://crossart.ning.com/events/art-bu
 rgers-festival-2
DTSTART;TZID=Europe/Berlin:20240518T130000
DTEND;TZID=Europe/Berlin:20240525T190000
CATEGORIES:kunstausstellung
LOCATION:PIXEL CAFE COLOGNE
WEBSITE:
URL:
CONTACT:
ORGANIZER:Peter MÃ¼ck und LUIZA BRACK
ATTACH;FMTTYPE="image/jpeg":http://storage.ning.com/topology/rest/1.0/
 file/get/2588169853?profile=original
ATTENDEE;ROLE=REQ-PARTICIPANT;PARTSTAT=ACCEPTED;RSVP=TRUE;CN="Manfred 
 FÃ¼rth":https://crossart.ning.com/profile/ManfredFuerth
ATTENDEE;ROLE=REQ-PARTICIPANT;PARTSTAT=ACCEPTED;RSVP=TRUE;CN="Rolf Har
 tung":https://crossart.ning.com/profile/RolfHartung
ATTENDEE;ROLE=REQ-PARTICIPANT;PARTSTAT=ACCEPTED;RSVP=TRUE;CN="Lara Mou
 vÃ©e":https://crossart.ning.com/profile/LaraMouvee
ATTENDEE;ROLE=REQ-PARTICIPANT;PARTSTAT=ACCEPTED;RSVP=TRUE;CN="Monika K
 rautscheid-Bosse":https://crossart.ning.com/profile/MonikaKrautscheidB
 osse
ATTENDEE;ROLE=REQ-PARTICIPANT;PARTSTAT=ACCEPTED;RSVP=TRUE;CN="Lene Eng
 husen":https://crossart.ning.com/profile/LeneEnghusen
ATTENDEE;ROLE=REQ-PARTICIPANT;PARTSTAT=ACCEPTED;RSVP=TRUE;CN="Natja Ja
 nder":https://crossart.ning.com/profile/NatjaJander
ATTENDEE;ROLE=REQ-PARTICIPANT;PARTSTAT=ACCEPTED;RSVP=TRUE;CN=Alper:htt
 ps://crossart.ning.com/profile/Alper
ATTENDEE;ROLE=REQ-PARTICIPANT;PARTSTAT=ACCEPTED;RSVP=TRUE;CN="Nortrud 
 Becher-KÃ¶nig":https://crossart.ning.com/profile/NortrudBecherKoenig
ATTENDEE;ROLE=REQ-PARTICIPANT;PARTSTAT=ACCEPTED;RSVP=TRUE;CN="Peter MÃ
 ¼ck":https://crossart.ning.com/profile/PeterMueck
ATTENDEE;ROLE=REQ-PARTICIPANT;PARTSTAT=TENTATIVE;RSVP=TRUE;CN="Elke BÃ
 ¼rger":https://crossart.ning.com/profile/ElkeBuerger
ATTENDEE;ROLE=REQ-PARTICIPANT;PARTSTAT=TENTATIVE;RSVP=TRUE;CN="Georg H
 . Schmidt":https://crossart.ning.com/profile/GeorgHSchmidt10
END:VEVENT
END:VCALENDAR
